Package: CytoPipeline Version: 1.6.0 Command: rm -rf CytoPipeline.buildbin-libdir && mkdir CytoPipeline.buildbin-libdir && /Users/biocbuild/BBS/utils/build-universal.sh CytoPipeline_1.6.0.tar.gz /Library/Frameworks/R.framework/Resources/bin/R CytoPipeline.buildbin-libdir StartedAt: 2025-02-19 14:47:28 -0500 (Wed, 19 Feb 2025) EndedAt: 2025-02-19 14:47:48 -0500 (Wed, 19 Feb 2025) EllapsedTime: 20.2 seconds RetCode: 0 Status: OK PackageFile: CytoPipeline_1.6.0.tgz PackageFileSize: 3.51 <A href="http://en.wikipedia.org/wiki/MiB" target="_blank">MiB</A>