Package: CytoPipeline Version: 1.6.0 Command: /Library/Frameworks/R.framework/Resources/bin/R CMD check --install=check:CytoPipeline.install-out.txt --library=/Library/Frameworks/R.framework/Resources/library --no-vignettes --timings CytoPipeline_1.6.0.tar.gz StartedAt: 2025-02-04 02:12:09 -0500 (Tue, 04 Feb 2025) EndedAt: 2025-02-04 02:22:17 -0500 (Tue, 04 Feb 2025) EllapsedTime: 607.9 seconds RetCode: 0 Status: OK CheckDir: CytoPipeline.Rcheck Warnings: 0