Package: CytoPipeline Version: 1.6.0 Command: /home/biocbuild/R/R/bin/R CMD build --keep-empty-dirs --no-resave-data CytoPipeline StartedAt: 2025-02-03 22:58:59 -0000 (Mon, 03 Feb 2025) EndedAt: 2025-02-03 23:00:01 -0000 (Mon, 03 Feb 2025) EllapsedTime: 62.0 seconds RetCode: 0 Status: OK PackageFile: CytoPipeline_1.6.0.tar.gz PackageFileSize: 2.763 MiB