Package: CytoPipeline Version: 1.6.0 Command: /home/biocbuild/R/R/bin/R CMD check --install=check:CytoPipeline.install-out.txt --library=/home/biocbuild/R/R/site-library --no-vignettes --timings CytoPipeline_1.6.0.tar.gz StartedAt: 2025-02-04 06:09:36 -0000 (Tue, 04 Feb 2025) EndedAt: 2025-02-04 06:14:48 -0000 (Tue, 04 Feb 2025) EllapsedTime: 312.3 seconds RetCode: 0 Status: OK CheckDir: CytoPipeline.Rcheck Warnings: 0