Package: CytoPipeline Version: 1.6.0 Command: /home/biocbuild/R/R/bin/R CMD INSTALL CytoPipeline StartedAt: 2025-02-03 20:56:11 -0000 (Mon, 03 Feb 2025) EndedAt: 2025-02-03 20:56:30 -0000 (Mon, 03 Feb 2025) EllapsedTime: 19.0 seconds RetCode: 0 Status: OK