Package: CytoPipelineGUI Version: 1.4.0 Command: /Library/Frameworks/R.framework/Resources/bin/R CMD INSTALL CytoPipelineGUI StartedAt: 2025-02-03 16:04:36 -0500 (Mon, 03 Feb 2025) EndedAt: 2025-02-03 16:05:03 -0500 (Mon, 03 Feb 2025) EllapsedTime: 27.0 seconds RetCode: 0 Status: OK