Package: CytoPipelineGUI Version: 1.4.0 Command: /home/biocbuild/R/R/bin/R CMD build --keep-empty-dirs --no-resave-data CytoPipelineGUI StartedAt: 2025-02-03 22:59:20 -0000 (Mon, 03 Feb 2025) EndedAt: 2025-02-03 23:00:17 -0000 (Mon, 03 Feb 2025) EllapsedTime: 57.0 seconds RetCode: 0 Status: OK PackageFile: CytoPipelineGUI_1.4.0.tar.gz PackageFileSize: 1.228 MiB