Package: CytoPipelineGUI Version: 1.4.0 Command: /home/biocbuild/R/R/bin/R CMD INSTALL CytoPipelineGUI StartedAt: 2025-02-03 20:56:30 -0000 (Mon, 03 Feb 2025) EndedAt: 2025-02-03 20:56:46 -0000 (Mon, 03 Feb 2025) EllapsedTime: 15.7 seconds RetCode: 0 Status: OK