Package: DAMEfinder Version: 1.18.0 Command: /home/biocbuild/bbs-3.20-bioc/R/bin/R CMD check --install=check:DAMEfinder.install-out.txt --library=/home/biocbuild/bbs-3.20-bioc/R/site-library --timings DAMEfinder_1.18.0.tar.gz StartedAt: 2025-02-03 21:32:46 -0500 (Mon, 03 Feb 2025) EndedAt: 2025-02-03 21:39:18 -0500 (Mon, 03 Feb 2025) EllapsedTime: 391.3 seconds RetCode: 0 Status: OK CheckDir: DAMEfinder.Rcheck Warnings: 0