Package: DAMEfinder Version: 1.18.0 Command: /home/biocbuild/bbs-3.20-bioc/R/bin/R CMD INSTALL DAMEfinder StartedAt: 2025-02-03 15:33:53 -0500 (Mon, 03 Feb 2025) EndedAt: 2025-02-03 15:34:22 -0500 (Mon, 03 Feb 2025) EllapsedTime: 28.8 seconds RetCode: 0 Status: OK