Package: DART Version: 1.54.0 Command: /Library/Frameworks/R.framework/Resources/bin/R CMD build --keep-empty-dirs --no-resave-data DART StartedAt: 2025-02-03 21:56:54 -0500 (Mon, 03 Feb 2025) EndedAt: 2025-02-03 21:57:23 -0500 (Mon, 03 Feb 2025) EllapsedTime: 28.8 seconds RetCode: 0 Status: OK PackageFile: DART_1.54.0.tar.gz PackageFileSize: 1.987 MiB