Package: DART Version: 1.54.0 Command: /Library/Frameworks/R.framework/Resources/bin/R CMD check --install=check:DART.install-out.txt --library=/Library/Frameworks/R.framework/Resources/library --no-vignettes --timings DART_1.54.0.tar.gz StartedAt: 2025-02-04 17:15:48 -0500 (Tue, 04 Feb 2025) EndedAt: 2025-02-04 17:16:29 -0500 (Tue, 04 Feb 2025) EllapsedTime: 40.3 seconds RetCode: 0 Status: OK CheckDir: DART.Rcheck Warnings: 0