Package: DART Version: 1.54.0 Command: /Library/Frameworks/R.framework/Resources/bin/R CMD INSTALL DART StartedAt: 2025-02-03 15:13:55 -0500 (Mon, 03 Feb 2025) EndedAt: 2025-02-03 15:14:02 -0500 (Mon, 03 Feb 2025) EllapsedTime: 6.4 seconds RetCode: 0 Status: OK