Package: DART Version: 1.54.0 Command: rm -rf DART.buildbin-libdir && mkdir DART.buildbin-libdir && /Users/biocbuild/BBS/utils/build-universal.sh DART_1.54.0.tar.gz /Library/Frameworks/R.framework/Resources/bin/R DART.buildbin-libdir StartedAt: 2025-02-18 12:01:01 -0500 (Tue, 18 Feb 2025) EndedAt: 2025-02-18 12:01:08 -0500 (Tue, 18 Feb 2025) EllapsedTime: 7.5 seconds RetCode: 0 Status: OK PackageFile: DART_1.54.0.tgz PackageFileSize: 2.027 <A href="http://en.wikipedia.org/wiki/MiB" target="_blank">MiB</A>