Package: DART Version: 1.54.0 Command: /Library/Frameworks/R.framework/Resources/bin/R CMD INSTALL DART StartedAt: 2025-02-03 15:14:48 -0500 (Mon, 03 Feb 2025) EndedAt: 2025-02-03 15:15:03 -0500 (Mon, 03 Feb 2025) EllapsedTime: 15.0 seconds RetCode: 0 Status: OK