Package: DART Version: 1.54.0 Command: /home/biocbuild/bbs-3.20-bioc/R/bin/R CMD build --keep-empty-dirs --no-resave-data --md5 DART StartedAt: 2025-02-03 17:05:03 -0500 (Mon, 03 Feb 2025) EndedAt: 2025-02-03 17:05:22 -0500 (Mon, 03 Feb 2025) EllapsedTime: 19.0 seconds RetCode: 0 Status: OK PackageFile: DART_1.54.0.tar.gz PackageFileSize: 1.989 MiB