Package: DART Version: 1.54.0 Command: /home/biocbuild/bbs-3.20-bioc/R/bin/R CMD check --install=check:DART.install-out.txt --library=/home/biocbuild/bbs-3.20-bioc/R/site-library --timings DART_1.54.0.tar.gz StartedAt: 2025-02-03 21:33:39 -0500 (Mon, 03 Feb 2025) EndedAt: 2025-02-03 21:34:26 -0500 (Mon, 03 Feb 2025) EllapsedTime: 46.0 seconds RetCode: 0 Status: OK CheckDir: DART.Rcheck Warnings: 0