Package: DART Version: 1.54.0 Command: chmod a+r DART -R && F:\biocbuild\bbs-3.20-bioc\R\bin\R.exe CMD build --keep-empty-dirs --no-resave-data DART StartedAt: 2025-02-03 18:30:58 -0500 (Mon, 03 Feb 2025) EndedAt: 2025-02-03 18:31:48 -0500 (Mon, 03 Feb 2025) EllapsedTime: 50.6 seconds RetCode: 0 Status: OK PackageFile: DART_1.54.0.tar.gz PackageFileSize: 1.989 MiB