Package: DART Version: 1.54.0 Command: F:\biocbuild\bbs-3.20-bioc\R\bin\R.exe CMD check --no-multiarch --install=check:DART.install-out.txt --library=F:\biocbuild\bbs-3.20-bioc\R\library --no-vignettes --timings DART_1.54.0.tar.gz StartedAt: 2025-02-04 00:54:52 -0500 (Tue, 04 Feb 2025) EndedAt: 2025-02-04 00:55:41 -0500 (Tue, 04 Feb 2025) EllapsedTime: 48.6 seconds RetCode: 0 Status: OK CheckDir: DART.Rcheck Warnings: 0