Package: DART Version: 1.54.0 Command: F:\biocbuild\bbs-3.20-bioc\R\bin\R.exe CMD INSTALL DART StartedAt: 2025-02-03 15:33:50 -0500 (Mon, 03 Feb 2025) EndedAt: 2025-02-03 15:33:59 -0500 (Mon, 03 Feb 2025) EllapsedTime: 9.1 seconds RetCode: 0 Status: OK