Package: DART Version: 1.54.0 Command: /home/biocbuild/R/R/bin/R CMD build --keep-empty-dirs --no-resave-data DART StartedAt: 2025-02-03 23:00:48 -0000 (Mon, 03 Feb 2025) EndedAt: 2025-02-03 23:02:24 -0000 (Mon, 03 Feb 2025) EllapsedTime: 96.0 seconds RetCode: 0 Status: OK PackageFile: DART_1.54.0.tar.gz PackageFileSize: 1.983 MiB