Package: DART Version: 1.54.0 Command: /home/biocbuild/R/R/bin/R CMD INSTALL DART StartedAt: 2025-02-03 20:23:41 -0000 (Mon, 03 Feb 2025) EndedAt: 2025-02-03 20:24:03 -0000 (Mon, 03 Feb 2025) EllapsedTime: 22.2 seconds RetCode: 0 Status: OK