Package: DCATS Version: 1.4.0 Command: /home/biocbuild/bbs-3.20-bioc/R/bin/R CMD INSTALL DCATS StartedAt: 2025-02-03 15:51:01 -0500 (Mon, 03 Feb 2025) EndedAt: 2025-02-03 15:51:07 -0500 (Mon, 03 Feb 2025) EllapsedTime: 6.5 seconds RetCode: 0 Status: OK