Package: DCATS Version: 1.4.0 Command: rm -rf DCATS.buildbin-libdir && mkdir DCATS.buildbin-libdir && F:\biocbuild\bbs-3.20-bioc\R\bin\R.exe CMD INSTALL --build --library=DCATS.buildbin-libdir DCATS_1.4.0.tar.gz StartedAt: 2025-02-04 08:19:47 -0500 (Tue, 04 Feb 2025) EndedAt: 2025-02-04 08:19:59 -0500 (Tue, 04 Feb 2025) EllapsedTime: 11.9 seconds RetCode: 0 Status: OK PackageFile: DCATS_1.4.0.zip PackageFileSize: 2.873 MiB