Package: DCATS Version: 1.4.0 Command: F:\biocbuild\bbs-3.20-bioc\R\bin\R.exe CMD INSTALL DCATS StartedAt: 2025-02-03 16:09:35 -0500 (Mon, 03 Feb 2025) EndedAt: 2025-02-03 16:09:50 -0500 (Mon, 03 Feb 2025) EllapsedTime: 15.2 seconds RetCode: 0 Status: OK