Package: DCATS Version: 1.4.0 Command: /home/biocbuild/R/R/bin/R CMD build --keep-empty-dirs --no-resave-data DCATS StartedAt: 2025-02-03 23:01:49 -0000 (Mon, 03 Feb 2025) EndedAt: 2025-02-03 23:02:06 -0000 (Mon, 03 Feb 2025) EllapsedTime: 17.0 seconds RetCode: 0 Status: OK PackageFile: DCATS_1.4.0.tar.gz PackageFileSize: 2.862 MiB