Package: DCATS Version: 1.4.0 Command: /home/biocbuild/R/R/bin/R CMD check --install=check:DCATS.install-out.txt --library=/home/biocbuild/R/R/site-library --no-vignettes --timings DCATS_1.4.0.tar.gz StartedAt: 2025-02-04 06:12:39 -0000 (Tue, 04 Feb 2025) EndedAt: 2025-02-04 06:14:44 -0000 (Tue, 04 Feb 2025) EllapsedTime: 125.1 seconds RetCode: 0 Status: OK CheckDir: DCATS.Rcheck Warnings: 0