Package: DCATS Version: 1.4.0 Command: /home/biocbuild/R/R/bin/R CMD INSTALL DCATS StartedAt: 2025-02-03 21:05:25 -0000 (Mon, 03 Feb 2025) EndedAt: 2025-02-03 21:05:33 -0000 (Mon, 03 Feb 2025) EllapsedTime: 7.8 seconds RetCode: 0 Status: OK