Package: DECIPHER Version: 3.2.0 Command: rm -rf DECIPHER.buildbin-libdir && mkdir DECIPHER.buildbin-libdir && /Users/biocbuild/BBS/utils/build-universal.sh DECIPHER_3.2.0.tar.gz /Library/Frameworks/R.framework/Resources/bin/R DECIPHER.buildbin-libdir StartedAt: 2025-02-01 14:36:05 -0500 (Sat, 01 Feb 2025) EndedAt: 2025-02-01 14:37:15 -0500 (Sat, 01 Feb 2025) EllapsedTime: 69.8 seconds RetCode: 0 Status: OK PackageFile: DECIPHER_3.2.0.tgz PackageFileSize: 16.47 MiB