Package: DECIPHER Version: 3.2.0 Command: /Library/Frameworks/R.framework/Resources/bin/R CMD check --install=check:DECIPHER.install-out.txt --library=/Library/Frameworks/R.framework/Resources/library --no-vignettes --timings DECIPHER_3.2.0.tar.gz StartedAt: 2025-01-31 16:53:44 -0500 (Fri, 31 Jan 2025) EndedAt: 2025-01-31 17:14:27 -0500 (Fri, 31 Jan 2025) EllapsedTime: 1242.5 seconds RetCode: 0 Status: OK CheckDir: DECIPHER.Rcheck Warnings: 0