Package: DECIPHER Version: 3.2.0 Command: /home/biocbuild/bbs-3.20-bioc/R/bin/R CMD check --install=check:DECIPHER.install-out.txt --library=/home/biocbuild/bbs-3.20-bioc/R/site-library --timings DECIPHER_3.2.0.tar.gz StartedAt: 2025-01-30 21:25:52 -0500 (Thu, 30 Jan 2025) EndedAt: 2025-01-30 21:59:06 -0500 (Thu, 30 Jan 2025) EllapsedTime: 1994.0 seconds RetCode: 0 Status: OK CheckDir: DECIPHER.Rcheck Warnings: 0