Package: DECIPHER Version: 3.2.0 Command: /home/biocbuild/R/R/bin/R CMD build --keep-empty-dirs --no-resave-data DECIPHER StartedAt: 2025-02-03 23:02:42 -0000 (Mon, 03 Feb 2025) EndedAt: 2025-02-03 23:22:57 -0000 (Mon, 03 Feb 2025) EllapsedTime: 1214.4 seconds RetCode: 0 Status: OK PackageFile: DECIPHER_3.2.0.tar.gz PackageFileSize: 16.69 MiB