Package: DEGraph Version: 1.58.0 Command: /home/biocbuild/bbs-3.20-bioc/R/bin/R CMD check --install=check:DEGraph.install-out.txt --library=/home/biocbuild/bbs-3.20-bioc/R/site-library --timings DEGraph_1.58.0.tar.gz StartedAt: 2025-02-03 21:39:18 -0500 (Mon, 03 Feb 2025) EndedAt: 2025-02-03 21:40:42 -0500 (Mon, 03 Feb 2025) EllapsedTime: 84.0 seconds RetCode: 0 Status: OK CheckDir: DEGraph.Rcheck Warnings: 0