Package: DEGraph Version: 1.58.0 Command: /home/biocbuild/bbs-3.20-bioc/R/bin/R CMD INSTALL DEGraph StartedAt: 2025-02-03 15:48:57 -0500 (Mon, 03 Feb 2025) EndedAt: 2025-02-03 15:49:05 -0500 (Mon, 03 Feb 2025) EllapsedTime: 8.0 seconds RetCode: 0 Status: OK