Package: DEGseq Version: 1.60.0 Command: /Library/Frameworks/R.framework/Resources/bin/R CMD build --keep-empty-dirs --no-resave-data DEGseq StartedAt: 2025-02-03 22:13:44 -0500 (Mon, 03 Feb 2025) EndedAt: 2025-02-03 22:14:14 -0500 (Mon, 03 Feb 2025) EllapsedTime: 29.5 seconds RetCode: 0 Status: OK PackageFile: DEGseq_1.60.0.tar.gz PackageFileSize: 1.961 MiB