Package: DEGseq Version: 1.60.0 Command: chmod a+r DEGseq -R && F:\biocbuild\bbs-3.20-bioc\R\bin\R.exe CMD build --keep-empty-dirs --no-resave-data DEGseq StartedAt: 2025-02-03 18:35:34 -0500 (Mon, 03 Feb 2025) EndedAt: 2025-02-03 18:36:15 -0500 (Mon, 03 Feb 2025) EllapsedTime: 41.4 seconds RetCode: 0 Status: OK PackageFile: DEGseq_1.60.0.tar.gz PackageFileSize: 1.839 MiB