Package: DEGseq Version: 1.60.0 Command: /home/biocbuild/R/R/bin/R CMD build --keep-empty-dirs --no-resave-data DEGseq StartedAt: 2025-02-03 23:05:38 -0000 (Mon, 03 Feb 2025) EndedAt: 2025-02-03 23:06:05 -0000 (Mon, 03 Feb 2025) EllapsedTime: 27.0 seconds RetCode: 0 Status: OK PackageFile: DEGseq_1.60.0.tar.gz PackageFileSize: 1.947 MiB