Package: DEGseq Version: 1.60.0 Command: /home/biocbuild/R/R/bin/R CMD check --install=check:DEGseq.install-out.txt --library=/home/biocbuild/R/R/site-library --no-vignettes --timings DEGseq_1.60.0.tar.gz StartedAt: 2025-02-04 06:17:09 -0000 (Tue, 04 Feb 2025) EndedAt: 2025-02-04 06:17:50 -0000 (Tue, 04 Feb 2025) EllapsedTime: 41.0 seconds RetCode: 0 Status: WARNINGS CheckDir: DEGseq.Rcheck Warnings: 1