Package: DEGseq Version: 1.60.0 Command: /home/biocbuild/R/R/bin/R CMD INSTALL DEGseq StartedAt: 2025-02-03 20:34:03 -0000 (Mon, 03 Feb 2025) EndedAt: 2025-02-03 20:34:28 -0000 (Mon, 03 Feb 2025) EllapsedTime: 25.5 seconds RetCode: 0 Status: OK