Package: DELocal Version: 1.6.0 Command: /Library/Frameworks/R.framework/Resources/bin/R CMD check --install=check:DELocal.install-out.txt --library=/Library/Frameworks/R.framework/Resources/library --no-vignettes --timings DELocal_1.6.0.tar.gz StartedAt: 2025-02-04 17:40:56 -0500 (Tue, 04 Feb 2025) EndedAt: 2025-02-04 17:44:17 -0500 (Tue, 04 Feb 2025) EllapsedTime: 200.5 seconds RetCode: 0 Status: OK CheckDir: DELocal.Rcheck Warnings: 0