Package: DELocal Version: 1.6.0 Command: /Library/Frameworks/R.framework/Resources/bin/R CMD INSTALL DELocal StartedAt: 2025-02-03 15:55:53 -0500 (Mon, 03 Feb 2025) EndedAt: 2025-02-03 15:56:23 -0500 (Mon, 03 Feb 2025) EllapsedTime: 29.4 seconds RetCode: 0 Status: OK