Package: DELocal
Version: 1.6.0
Command: /Library/Frameworks/R.framework/Resources/bin/R CMD build --keep-empty-dirs --no-resave-data DELocal
StartedAt: 2025-02-17 18:32:04 -0500 (Mon, 17 Feb 2025)
EndedAt: 2025-02-17 18:35:11 -0500 (Mon, 17 Feb 2025)
EllapsedTime: 187.1 seconds
RetCode: 0
Status: OK
PackageFile: DELocal_1.6.0.tar.gz
PackageFileSize: 2.334 <A href="http://en.wikipedia.org/wiki/MiB" target="_blank">MiB</A>