Package: DELocal Version: 1.6.0 Command: /home/biocbuild/bbs-3.20-bioc/R/bin/R CMD build --keep-empty-dirs --no-resave-data --md5 DELocal StartedAt: 2025-02-03 17:08:32 -0500 (Mon, 03 Feb 2025) EndedAt: 2025-02-03 17:09:48 -0500 (Mon, 03 Feb 2025) EllapsedTime: 76.1 seconds RetCode: 0 Status: OK PackageFile: DELocal_1.6.0.tar.gz PackageFileSize: 2.344 MiB