Package: DELocal Version: 1.6.0 Command: /home/biocbuild/bbs-3.20-bioc/R/bin/R CMD check --install=check:DELocal.install-out.txt --library=/home/biocbuild/bbs-3.20-bioc/R/site-library --timings DELocal_1.6.0.tar.gz StartedAt: 2025-02-03 21:42:04 -0500 (Mon, 03 Feb 2025) EndedAt: 2025-02-03 21:45:43 -0500 (Mon, 03 Feb 2025) EllapsedTime: 219.2 seconds RetCode: 0 Status: OK CheckDir: DELocal.Rcheck Warnings: 0