Package: DELocal Version: 1.6.0 Command: chmod a+r DELocal -R && F:\biocbuild\bbs-3.20-bioc\R\bin\R.exe CMD build --keep-empty-dirs --no-resave-data DELocal StartedAt: 2025-02-03 18:36:48 -0500 (Mon, 03 Feb 2025) EndedAt: 2025-02-03 18:38:14 -0500 (Mon, 03 Feb 2025) EllapsedTime: 85.3 seconds RetCode: 0 Status: OK PackageFile: DELocal_1.6.0.tar.gz PackageFileSize: 2.299 MiB