Package: DELocal Version: 1.6.0 Command: F:\biocbuild\bbs-3.20-bioc\R\bin\R.exe CMD check --no-multiarch --install=check:DELocal.install-out.txt --library=F:\biocbuild\bbs-3.20-bioc\R\library --no-vignettes --timings DELocal_1.6.0.tar.gz StartedAt: 2025-02-04 01:05:20 -0500 (Tue, 04 Feb 2025) EndedAt: 2025-02-04 01:09:05 -0500 (Tue, 04 Feb 2025) EllapsedTime: 225.4 seconds RetCode: 0 Status: OK CheckDir: DELocal.Rcheck Warnings: 0