Package: DELocal Version: 1.6.0 Command: /home/biocbuild/R/R/bin/R CMD check --install=check:DELocal.install-out.txt --library=/home/biocbuild/R/R/site-library --no-vignettes --timings DELocal_1.6.0.tar.gz StartedAt: 2025-02-04 06:19:05 -0000 (Tue, 04 Feb 2025) EndedAt: 2025-02-04 06:22:44 -0000 (Tue, 04 Feb 2025) EllapsedTime: 218.3 seconds RetCode: 0 Status: OK CheckDir: DELocal.Rcheck Warnings: 0