Package: DEP Version: 1.28.0 Command: /Library/Frameworks/R.framework/Resources/bin/R CMD build --keep-empty-dirs --no-resave-data DEP StartedAt: 2025-02-03 22:20:33 -0500 (Mon, 03 Feb 2025) EndedAt: 2025-02-03 22:22:19 -0500 (Mon, 03 Feb 2025) EllapsedTime: 106.1 seconds RetCode: 0 Status: OK PackageFile: DEP_1.28.0.tar.gz PackageFileSize: 3.386 MiB