Package: DEP Version: 1.28.0 Command: /Library/Frameworks/R.framework/Resources/bin/R CMD check --install=check:DEP.install-out.txt --library=/Library/Frameworks/R.framework/Resources/library --no-vignettes --timings DEP_1.28.0.tar.gz StartedAt: 2025-02-04 17:45:28 -0500 (Tue, 04 Feb 2025) EndedAt: 2025-02-04 17:52:32 -0500 (Tue, 04 Feb 2025) EllapsedTime: 424.1 seconds RetCode: 0 Status: WARNINGS CheckDir: DEP.Rcheck Warnings: 1