Package: DEP Version: 1.28.0 Command: /Library/Frameworks/R.framework/Resources/bin/R CMD check --install=check:DEP.install-out.txt --library=/Library/Frameworks/R.framework/Resources/library --no-vignettes --timings DEP_1.28.0.tar.gz StartedAt: 2025-02-04 02:35:54 -0500 (Tue, 04 Feb 2025) EndedAt: 2025-02-04 02:54:01 -0500 (Tue, 04 Feb 2025) EllapsedTime: 1086.2 seconds RetCode: 0 Status: WARNINGS CheckDir: DEP.Rcheck Warnings: 1